BEGIN:VCALENDAR
VERSION:2.0
PRODID:-//Midt-Troms rådet - ECPv6.6.4.2//NONSGML v1.0//EN
CALSCALE:GREGORIAN
METHOD:PUBLISH
X-WR-CALNAME:Midt-Troms rådet
X-ORIGINAL-URL:https://www.midt-troms.no
X-WR-CALDESC:Arrangementer for Midt-Troms rådet
REFRESH-INTERVAL;VALUE=DURATION:PT1H
X-Robots-Tag:noindex
X-PUBLISHED-TTL:PT1H
BEGIN:VTIMEZONE
TZID:UTC
BEGIN:STANDARD
TZOFFSETFROM:+0000
TZOFFSETTO:+0000
TZNAME:UTC
DTSTART:20240101T000000
END:STANDARD
END:VTIMEZONE
BEGIN:VEVENT
DTSTART;VALUE=DATE:20240612
DTEND;VALUE=DATE:20240613
DTSTAMP:20260421T184217
CREATED:20240521T092521Z
LAST-MODIFIED:20240521T092521Z
UID:252-1718150400-1718236799@www.midt-troms.no
SUMMARY:Møte administrativt råd
DESCRIPTION:
URL:https://www.midt-troms.no/mote/mote-administrativt-rad/
LOCATION:Lavangen\, 9357\, Norge
END:VEVENT
BEGIN:VEVENT
DTSTART;VALUE=DATE:20240617
DTEND;VALUE=DATE:20240618
DTSTAMP:20260421T184217
CREATED:20240521T092816Z
LAST-MODIFIED:20240521T092816Z
UID:254-1718582400-1718668799@www.midt-troms.no
SUMMARY:Møte Midt-Tromsrådet
DESCRIPTION:
URL:https://www.midt-troms.no/mote/mote-midt-tromsradet-2/
LOCATION:Bardu\, 9365\, Norge
END:VEVENT
END:VCALENDAR