BEGIN:VCALENDAR
VERSION:2.0
PRODID:-//Midt-Troms rådet - ECPv6.6.4.2//NONSGML v1.0//EN
CALSCALE:GREGORIAN
METHOD:PUBLISH
X-WR-CALNAME:Midt-Troms rådet
X-ORIGINAL-URL:https://www.midt-troms.no
X-WR-CALDESC:Arrangementer for Midt-Troms rådet
REFRESH-INTERVAL;VALUE=DURATION:PT1H
X-Robots-Tag:noindex
X-PUBLISHED-TTL:PT1H
BEGIN:VTIMEZONE
TZID:UTC
BEGIN:STANDARD
TZOFFSETFROM:+0000
TZOFFSETTO:+0000
TZNAME:UTC
DTSTART:20250101T000000
END:STANDARD
END:VTIMEZONE
BEGIN:VEVENT
DTSTART;VALUE=DATE:20250407
DTEND;VALUE=DATE:20250408
DTSTAMP:20260426T042401
CREATED:20241119T103827Z
LAST-MODIFIED:20241119T103827Z
UID:330-1743984000-1744070399@www.midt-troms.no
SUMMARY:Møte Midt-Tromsrådet
DESCRIPTION:
URL:https://www.midt-troms.no/mote/mote-midt-tromsradet-7/
LOCATION:Dyrøy
END:VEVENT
END:VCALENDAR