BEGIN:VCALENDAR
VERSION:2.0
PRODID:-//Midt-Troms rådet - ECPv6.6.4.2//NONSGML v1.0//EN
CALSCALE:GREGORIAN
METHOD:PUBLISH
X-ORIGINAL-URL:https://www.midt-troms.no
X-WR-CALDESC:Arrangementer for Midt-Troms rådet
REFRESH-INTERVAL;VALUE=DURATION:PT1H
X-Robots-Tag:noindex
X-PUBLISHED-TTL:PT1H
BEGIN:VTIMEZONE
TZID:UTC
BEGIN:STANDARD
TZOFFSETFROM:+0000
TZOFFSETTO:+0000
TZNAME:UTC
DTSTART:20250101T000000
END:STANDARD
END:VTIMEZONE
BEGIN:VEVENT
DTSTART;VALUE=DATE:20250312
DTEND;VALUE=DATE:20250313
DTSTAMP:20260426T011528
CREATED:20241119T103421Z
LAST-MODIFIED:20241119T105137Z
UID:328-1741737600-1741823999@www.midt-troms.no
SUMMARY:Møte administrativt råd
DESCRIPTION:
URL:https://www.midt-troms.no/mote/mote-administrativt-rad-6/
LOCATION:Sørreisa\, 9310\, Norge
END:VEVENT
END:VCALENDAR