BEGIN:VCALENDAR
VERSION:2.0
PRODID:-//Midt-Troms rådet - ECPv6.6.4.2//NONSGML v1.0//EN
CALSCALE:GREGORIAN
METHOD:PUBLISH
X-ORIGINAL-URL:https://www.midt-troms.no
X-WR-CALDESC:Arrangementer for Midt-Troms rådet
REFRESH-INTERVAL;VALUE=DURATION:PT1H
X-Robots-Tag:noindex
X-PUBLISHED-TTL:PT1H
BEGIN:VTIMEZONE
TZID:UTC
BEGIN:STANDARD
TZOFFSETFROM:+0000
TZOFFSETTO:+0000
TZNAME:UTC
DTSTART:20240101T000000
END:STANDARD
END:VTIMEZONE
BEGIN:VEVENT
DTSTART;VALUE=DATE:20240826
DTEND;VALUE=DATE:20240827
DTSTAMP:20260421T102107
CREATED:20240521T092944Z
LAST-MODIFIED:20240521T092944Z
UID:256-1724630400-1724716799@www.midt-troms.no
SUMMARY:Arbeidsmøte Midt-Tromsrådet
DESCRIPTION:
URL:https://www.midt-troms.no/mote/arbeidsmote-midt-tromsradet-2/
END:VEVENT
END:VCALENDAR